BEGIN:VCALENDAR
VERSION:2.0
PRODID:-//AcuStaf Development Corporation - ECPv6.15.20//NONSGML v1.0//EN
CALSCALE:GREGORIAN
METHOD:PUBLISH
X-WR-CALNAME:AcuStaf Development Corporation
X-ORIGINAL-URL:https://acustaf.com
X-WR-CALDESC:Events for AcuStaf Development Corporation
REFRESH-INTERVAL;VALUE=DURATION:PT1H
X-Robots-Tag:noindex
X-PUBLISHED-TTL:PT1H
BEGIN:VTIMEZONE
TZID:America/Chicago
BEGIN:DAYLIGHT
TZOFFSETFROM:-0600
TZOFFSETTO:-0500
TZNAME:CDT
DTSTART:20250309T080000
END:DAYLIGHT
BEGIN:STANDARD
TZOFFSETFROM:-0500
TZOFFSETTO:-0600
TZNAME:CST
DTSTART:20251102T070000
END:STANDARD
BEGIN:DAYLIGHT
TZOFFSETFROM:-0600
TZOFFSETTO:-0500
TZNAME:CDT
DTSTART:20260308T080000
END:DAYLIGHT
BEGIN:STANDARD
TZOFFSETFROM:-0500
TZOFFSETTO:-0600
TZNAME:CST
DTSTART:20261101T070000
END:STANDARD
BEGIN:DAYLIGHT
TZOFFSETFROM:-0600
TZOFFSETTO:-0500
TZNAME:CDT
DTSTART:20270314T080000
END:DAYLIGHT
BEGIN:STANDARD
TZOFFSETFROM:-0500
TZOFFSETTO:-0600
TZNAME:CST
DTSTART:20271107T070000
END:STANDARD
END:VTIMEZONE
BEGIN:VEVENT
DTSTART;TZID=America/Chicago:20260507T110000
DTEND;TZID=America/Chicago:20260507T120000
DTSTAMP:20260423T145428
CREATED:20260209T164802Z
LAST-MODIFIED:20260213T170608Z
UID:9903-1778151600-1778155200@acustaf.com
SUMMARY:Webinar Series: Benchmarking\, Budgeting & Staffing for Outpatient Clinics
DESCRIPTION:LEARN the latest Hours Per Patient Day (HPPD) and caregiver ratio benchmark comparisons for your Outpatient Clincs. Significant changes by unit type will be shared along with financial management recommendations to aid you in your annual budget development. \nThis webinar is designed for leaders at all levels and their designees with financial responsibility for budgeting and staffing. \nRECEIVE staffing strategies and guidelines specific to Outpatient Clinics to help you in your workforce management decision making.  Benchmarking Principles\, Terms and Best Practices are included. \nResults will be presented from LMI Perspectives on Staffing & Scheduling (PSS™) Annual Survey of Hours Report™ comparing Direct\, Indirect\, and Total Hours Per Patient Day (HPPD) or Unit of Service (H/UOS) and includes respondent distributions in quartiles and percentiles. \nRegister \n 
URL:https://acustaf.com/event/webinar-series-benchmarking-budgeting-staffing-for-outpatient-clinics/
CATEGORIES:Webinar
ATTACH;FMTTYPE=image/png:https://acustaf.com/wp-content/uploads/2021/06/AcuStaf-Event-Images.png
END:VEVENT
END:VCALENDAR