BEGIN:VCALENDAR
VERSION:2.0
PRODID:-//AcuStaf Development Corporation - ECPv6.15.20//NONSGML v1.0//EN
CALSCALE:GREGORIAN
METHOD:PUBLISH
X-WR-CALNAME:AcuStaf Development Corporation
X-ORIGINAL-URL:https://acustaf.com
X-WR-CALDESC:Events for AcuStaf Development Corporation
REFRESH-INTERVAL;VALUE=DURATION:PT1H
X-Robots-Tag:noindex
X-PUBLISHED-TTL:PT1H
BEGIN:VTIMEZONE
TZID:America/Chicago
BEGIN:DAYLIGHT
TZOFFSETFROM:-0600
TZOFFSETTO:-0500
TZNAME:CDT
DTSTART:20250309T080000
END:DAYLIGHT
BEGIN:STANDARD
TZOFFSETFROM:-0500
TZOFFSETTO:-0600
TZNAME:CST
DTSTART:20251102T070000
END:STANDARD
BEGIN:DAYLIGHT
TZOFFSETFROM:-0600
TZOFFSETTO:-0500
TZNAME:CDT
DTSTART:20260308T080000
END:DAYLIGHT
BEGIN:STANDARD
TZOFFSETFROM:-0500
TZOFFSETTO:-0600
TZNAME:CST
DTSTART:20261101T070000
END:STANDARD
BEGIN:DAYLIGHT
TZOFFSETFROM:-0600
TZOFFSETTO:-0500
TZNAME:CDT
DTSTART:20270314T080000
END:DAYLIGHT
BEGIN:STANDARD
TZOFFSETFROM:-0500
TZOFFSETTO:-0600
TZNAME:CST
DTSTART:20271107T070000
END:STANDARD
END:VTIMEZONE
BEGIN:VEVENT
DTSTART;TZID=America/Chicago:20260303T110000
DTEND;TZID=America/Chicago:20260303T120000
DTSTAMP:20260423T131705
CREATED:20250919T132349Z
LAST-MODIFIED:20260209T165937Z
UID:9812-1772535600-1772539200@acustaf.com
SUMMARY:Webinar Series: Benchmarking\, Budgeting & Staffing for Critical Care Units: CCU
DESCRIPTION:LEARN the latest Hours Per Patient Day (HPPD) and caregiver ratio benchmark comparisons for your Coronary Care Unit (CCU) units. Significant changes by unit type will be shared along with financial management recommendations to aid you in your annual budget development.   \nThis webinar is designed for leaders at all levels and their designees with financial responsibility for budgeting and staffing. \nRECEIVE staffing strategies and guidelines specific to Coronary Care Units (CCU) to help you in your workforce management decision making.  Benchmarking Principles\, Terms and Best Practices are included. \nResults will be presented from LMI Perspectives on Staffing & Scheduling (PSS™) Annual Survey of Hours Report™ comparing Direct\, Indirect\, and Total Hours Per Patient Day (HPPD) or Unit of Service (H/UOS) and includes respondent distributions in quartiles and percentiles. \nRegister
URL:https://acustaf.com/event/webinar-series-benchmarking-budgeting-staffing-for-critical-care-units-ccu/
CATEGORIES:Webinar
ATTACH;FMTTYPE=image/png:https://acustaf.com/wp-content/uploads/2020/10/10.png
END:VEVENT
END:VCALENDAR